BEGIN:VCALENDAR
VERSION:2.0
PRODID:-//City Point Yacht Club - ECPv6.15.20//NONSGML v1.0//EN
CALSCALE:GREGORIAN
METHOD:PUBLISH
X-WR-CALNAME:City Point Yacht Club
X-ORIGINAL-URL:https://www.citypointyc.org
X-WR-CALDESC:Events for City Point Yacht Club
REFRESH-INTERVAL;VALUE=DURATION:PT1H
X-Robots-Tag:noindex
X-PUBLISHED-TTL:PT1H
BEGIN:VTIMEZONE
TZID:America/New_York
BEGIN:DAYLIGHT
TZOFFSETFROM:-0500
TZOFFSETTO:-0400
TZNAME:EDT
DTSTART:20210314T070000
END:DAYLIGHT
BEGIN:STANDARD
TZOFFSETFROM:-0400
TZOFFSETTO:-0500
TZNAME:EST
DTSTART:20211107T060000
END:STANDARD
BEGIN:DAYLIGHT
TZOFFSETFROM:-0500
TZOFFSETTO:-0400
TZNAME:EDT
DTSTART:20220313T070000
END:DAYLIGHT
BEGIN:STANDARD
TZOFFSETFROM:-0400
TZOFFSETTO:-0500
TZNAME:EST
DTSTART:20221106T060000
END:STANDARD
BEGIN:DAYLIGHT
TZOFFSETFROM:-0500
TZOFFSETTO:-0400
TZNAME:EDT
DTSTART:20230312T070000
END:DAYLIGHT
BEGIN:STANDARD
TZOFFSETFROM:-0400
TZOFFSETTO:-0500
TZNAME:EST
DTSTART:20231105T060000
END:STANDARD
BEGIN:DAYLIGHT
TZOFFSETFROM:-0500
TZOFFSETTO:-0400
TZNAME:EDT
DTSTART:20240310T070000
END:DAYLIGHT
BEGIN:STANDARD
TZOFFSETFROM:-0400
TZOFFSETTO:-0500
TZNAME:EST
DTSTART:20241103T060000
END:STANDARD
END:VTIMEZONE
BEGIN:VTIMEZONE
TZID:UTC
BEGIN:STANDARD
TZOFFSETFROM:+0000
TZOFFSETTO:+0000
TZNAME:UTC
DTSTART:20210101T000000
END:STANDARD
END:VTIMEZONE
BEGIN:VEVENT
DTSTART;TZID=America/New_York:20230817T190000
DTEND;TZID=America/New_York:20230817T200000
DTSTAMP:20260420T013409
CREATED:20221206T175509Z
LAST-MODIFIED:20240229T125551Z
UID:533-1692298800-1692302400@www.citypointyc.org
SUMMARY:Membership Meeting
DESCRIPTION:
URL:https://www.citypointyc.org/event/membership-meeting-65/
LOCATION:CT
CATEGORIES:Membership
END:VEVENT
BEGIN:VEVENT
DTSTART;TZID=America/New_York:20230803T190000
DTEND;TZID=America/New_York:20230803T200000
DTSTAMP:20260420T013409
CREATED:20221206T175455Z
LAST-MODIFIED:20240229T125551Z
UID:532-1691089200-1691092800@www.citypointyc.org
SUMMARY:Membership Meeting
DESCRIPTION:
URL:https://www.citypointyc.org/event/membership-meeting-64/
LOCATION:CT
CATEGORIES:Membership
END:VEVENT
BEGIN:VEVENT
DTSTART;TZID=America/New_York:20230722T070000
DTEND;TZID=America/New_York:20230722T150000
DTSTAMP:20260420T013409
CREATED:20230209T163717Z
LAST-MODIFIED:20230209T163717Z
UID:563-1690009200-1690038000@www.citypointyc.org
SUMMARY:Kid's Fishing Tournament
DESCRIPTION:
URL:https://www.citypointyc.org/event/kids-fishing-tournament-2/
LOCATION:CT
END:VEVENT
BEGIN:VEVENT
DTSTART;TZID=America/New_York:20230720T190000
DTEND;TZID=America/New_York:20230720T200000
DTSTAMP:20260420T013409
CREATED:20221206T175455Z
LAST-MODIFIED:20240229T125551Z
UID:531-1689879600-1689883200@www.citypointyc.org
SUMMARY:Membership Meeting
DESCRIPTION:
URL:https://www.citypointyc.org/event/membership-meeting-63/
LOCATION:CT
CATEGORIES:Membership
END:VEVENT
BEGIN:VEVENT
DTSTART;TZID=America/New_York:20230708T163000
DTEND;TZID=America/New_York:20230708T220000
DTSTAMP:20260420T013409
CREATED:20230209T163717Z
LAST-MODIFIED:20230615T151656Z
UID:562-1688833800-1688853600@www.citypointyc.org
SUMMARY:Clam Bake
DESCRIPTION:
URL:https://www.citypointyc.org/event/clam-bake-2/
LOCATION:City Point Yacht Club\, 347 Kimberly Ave\, New Haven\, CT\, 06519\, United States
END:VEVENT
BEGIN:VEVENT
DTSTART;TZID=America/New_York:20230706T190000
DTEND;TZID=America/New_York:20230706T200000
DTSTAMP:20260420T013409
CREATED:20221206T175454Z
LAST-MODIFIED:20240229T125551Z
UID:530-1688670000-1688673600@www.citypointyc.org
SUMMARY:Membership Meeting
DESCRIPTION:
URL:https://www.citypointyc.org/event/membership-meeting-62/
LOCATION:CT
CATEGORIES:Membership
END:VEVENT
BEGIN:VEVENT
DTSTART;TZID=America/New_York:20230615T190000
DTEND;TZID=America/New_York:20230615T200000
DTSTAMP:20260420T013409
CREATED:20221206T175454Z
LAST-MODIFIED:20240229T125551Z
UID:529-1686855600-1686859200@www.citypointyc.org
SUMMARY:Membership Meeting
DESCRIPTION:
URL:https://www.citypointyc.org/event/membership-meeting-61/
LOCATION:CT
CATEGORIES:Membership
END:VEVENT
BEGIN:VEVENT
DTSTART;TZID=America/New_York:20230611T120000
DTEND;TZID=America/New_York:20230611T160000
DTSTAMP:20260420T013409
CREATED:20230209T163717Z
LAST-MODIFIED:20230209T163717Z
UID:561-1686484800-1686499200@www.citypointyc.org
SUMMARY:Life Member’s Day
DESCRIPTION:
URL:https://www.citypointyc.org/event/life-members-day/
LOCATION:CT
END:VEVENT
BEGIN:VEVENT
DTSTART;TZID=America/New_York:20230603T000000
DTEND;TZID=America/New_York:20230604T140000
DTSTAMP:20260420T013409
CREATED:20230209T163717Z
LAST-MODIFIED:20230209T163717Z
UID:560-1685750400-1685887200@www.citypointyc.org
SUMMARY:3 Fish Tournament (Striped Bass\, Fluke\, and Seas Bass)
DESCRIPTION:
URL:https://www.citypointyc.org/event/3-fish-tournament-striped-bass-fluke-and-seas-bass/
LOCATION:CT
END:VEVENT
BEGIN:VEVENT
DTSTART;TZID=America/New_York:20230601T190000
DTEND;TZID=America/New_York:20230601T200000
DTSTAMP:20260420T013409
CREATED:20221206T175454Z
LAST-MODIFIED:20240229T125551Z
UID:528-1685646000-1685649600@www.citypointyc.org
SUMMARY:Membership Meeting
DESCRIPTION:
URL:https://www.citypointyc.org/event/membership-meeting-60/
LOCATION:CT
CATEGORIES:Membership
END:VEVENT
BEGIN:VEVENT
DTSTART;TZID=America/New_York:20230527T120000
DTEND;TZID=America/New_York:20230527T190000
DTSTAMP:20260420T013409
CREATED:20230209T163717Z
LAST-MODIFIED:20230424T141136Z
UID:559-1685188800-1685214000@www.citypointyc.org
SUMMARY:Opening Day
DESCRIPTION:Flag Raising Ceremony at 12:00 p.m.\nAppetizers by the Auxiliary at 1:00 p.m.\nDinner by Cappetta’s Italian Imports\nPizza & Catering at 2:00 p.m. \nOpening Day Flyer 2023
URL:https://www.citypointyc.org/event/opening-day-3/
LOCATION:CT
END:VEVENT
BEGIN:VEVENT
DTSTART;TZID=America/New_York:20230520T170000
DTEND;TZID=America/New_York:20230520T200000
DTSTAMP:20260420T013409
CREATED:20230209T163716Z
LAST-MODIFIED:20230209T163716Z
UID:558-1684602000-1684612800@www.citypointyc.org
SUMMARY:Game Night
DESCRIPTION:
URL:https://www.citypointyc.org/event/game-night/
LOCATION:CT
END:VEVENT
BEGIN:VEVENT
DTSTART;TZID=America/New_York:20230518T190000
DTEND;TZID=America/New_York:20230518T200000
DTSTAMP:20260420T013409
CREATED:20221206T175453Z
LAST-MODIFIED:20240229T125551Z
UID:527-1684436400-1684440000@www.citypointyc.org
SUMMARY:Membership Meeting
DESCRIPTION:
URL:https://www.citypointyc.org/event/membership-meeting-59/
LOCATION:CT
CATEGORIES:Membership
END:VEVENT
BEGIN:VEVENT
DTSTART;TZID=America/New_York:20230504T190000
DTEND;TZID=America/New_York:20230504T200000
DTSTAMP:20260420T013409
CREATED:20221206T175453Z
LAST-MODIFIED:20221206T175453Z
UID:526-1683226800-1683230400@www.citypointyc.org
SUMMARY:Membership Meeting
DESCRIPTION:
URL:https://www.citypointyc.org/event/membership-meeting-58/
LOCATION:CT
END:VEVENT
BEGIN:VEVENT
DTSTART;TZID=America/New_York:20230429T060000
DTEND;TZID=America/New_York:20230429T160000
DTSTAMP:20260420T013409
CREATED:20230209T163715Z
LAST-MODIFIED:20230209T163715Z
UID:557-1682748000-1682784000@www.citypointyc.org
SUMMARY:Spring Blackfish Tournament
DESCRIPTION:
URL:https://www.citypointyc.org/event/spring-blackfish-tournament-3/
LOCATION:CT
END:VEVENT
BEGIN:VEVENT
DTSTART;TZID=America/New_York:20230420T190000
DTEND;TZID=America/New_York:20230420T200000
DTSTAMP:20260420T013409
CREATED:20221206T175453Z
LAST-MODIFIED:20221206T175453Z
UID:525-1682017200-1682020800@www.citypointyc.org
SUMMARY:Membership Meeting
DESCRIPTION:
URL:https://www.citypointyc.org/event/membership-meeting-57/
LOCATION:CT
END:VEVENT
BEGIN:VEVENT
DTSTART;TZID=America/New_York:20230406T190000
DTEND;TZID=America/New_York:20230406T200000
DTSTAMP:20260420T013409
CREATED:20221206T175452Z
LAST-MODIFIED:20221206T175452Z
UID:524-1680807600-1680811200@www.citypointyc.org
SUMMARY:Membership Meeting
DESCRIPTION:
URL:https://www.citypointyc.org/event/membership-meeting-56/
LOCATION:CT
END:VEVENT
BEGIN:VEVENT
DTSTART;TZID=America/New_York:20230316T190000
DTEND;TZID=America/New_York:20230316T200000
DTSTAMP:20260420T013409
CREATED:20221206T175452Z
LAST-MODIFIED:20221206T175452Z
UID:523-1678993200-1678996800@www.citypointyc.org
SUMMARY:Membership Meeting
DESCRIPTION:
URL:https://www.citypointyc.org/event/membership-meeting-55/
LOCATION:CT
END:VEVENT
BEGIN:VEVENT
DTSTART;TZID=America/New_York:20230312T150000
DTEND;TZID=America/New_York:20230312T200000
DTSTAMP:20260420T013409
CREATED:20230209T163715Z
LAST-MODIFIED:20230209T163715Z
UID:556-1678633200-1678651200@www.citypointyc.org
SUMMARY:St. Paddy’s Dinner
DESCRIPTION:
URL:https://www.citypointyc.org/event/st-paddys-dinner/
LOCATION:CT
END:VEVENT
BEGIN:VEVENT
DTSTART;TZID=America/New_York:20230302T190000
DTEND;TZID=America/New_York:20230302T200000
DTSTAMP:20260420T013409
CREATED:20221206T175451Z
LAST-MODIFIED:20221206T175451Z
UID:522-1677783600-1677787200@www.citypointyc.org
SUMMARY:Membership Meeting
DESCRIPTION:
URL:https://www.citypointyc.org/event/membership-meeting-54/
LOCATION:CT
END:VEVENT
BEGIN:VEVENT
DTSTART;TZID=America/New_York:20230225T190000
DTEND;TZID=America/New_York:20230225T230000
DTSTAMP:20260420T013409
CREATED:20230209T163715Z
LAST-MODIFIED:20230209T163715Z
UID:555-1677351600-1677366000@www.citypointyc.org
SUMMARY:Winter Wig Out
DESCRIPTION:
URL:https://www.citypointyc.org/event/winter-wig-out/
LOCATION:CT
END:VEVENT
BEGIN:VEVENT
DTSTART;TZID=America/New_York:20230216T190000
DTEND;TZID=America/New_York:20230216T200000
DTSTAMP:20260420T013409
CREATED:20221206T175451Z
LAST-MODIFIED:20221206T175451Z
UID:521-1676574000-1676577600@www.citypointyc.org
SUMMARY:Membership Meeting
DESCRIPTION:
URL:https://www.citypointyc.org/event/membership-meeting-53/
LOCATION:CT
END:VEVENT
BEGIN:VEVENT
DTSTART;TZID=America/New_York:20230212T170000
DTEND;TZID=America/New_York:20230212T220000
DTSTAMP:20260420T013409
CREATED:20230209T163715Z
LAST-MODIFIED:20230209T163715Z
UID:554-1676221200-1676239200@www.citypointyc.org
SUMMARY:Superbowl Party
DESCRIPTION:
URL:https://www.citypointyc.org/event/superbowl-party/
LOCATION:CT
END:VEVENT
BEGIN:VEVENT
DTSTART;TZID=America/New_York:20230202T190000
DTEND;TZID=America/New_York:20230202T200000
DTSTAMP:20260420T013409
CREATED:20221206T175451Z
LAST-MODIFIED:20221206T175451Z
UID:520-1675364400-1675368000@www.citypointyc.org
SUMMARY:Membership Meeting
DESCRIPTION:
URL:https://www.citypointyc.org/event/membership-meeting-52/
LOCATION:CT
END:VEVENT
BEGIN:VEVENT
DTSTART;TZID=America/New_York:20230119T190000
DTEND;TZID=America/New_York:20230119T200000
DTSTAMP:20260420T013409
CREATED:20221206T175451Z
LAST-MODIFIED:20221206T175451Z
UID:519-1674154800-1674158400@www.citypointyc.org
SUMMARY:Membership Meeting
DESCRIPTION:
URL:https://www.citypointyc.org/event/membership-meeting-51/
LOCATION:CT
END:VEVENT
BEGIN:VEVENT
DTSTART;TZID=America/New_York:20230115T103000
DTEND;TZID=America/New_York:20230115T120000
DTSTAMP:20260420T013409
CREATED:20230109T143002Z
LAST-MODIFIED:20230109T143002Z
UID:548-1673778600-1673784000@www.citypointyc.org
SUMMARY:Meet the Commodore
DESCRIPTION:The auxiliary will be hosting a brunch on Sunday January 15th at 10:30 a.m. to meet new commodore Sal D’Amato. This is a great opportunity for members to welcome Commodore D’Amato as he begins his new role on the board.\nThere will be a signup sheet posted at the club
URL:https://www.citypointyc.org/event/meet-the-commodore/
LOCATION:City Point Yacht Club\, 347 Kimberly Ave\, New Haven\, CT\, 06519\, United States
END:VEVENT
BEGIN:VEVENT
DTSTART;TZID=America/New_York:20230105T190000
DTEND;TZID=America/New_York:20230105T200000
DTSTAMP:20260420T013409
CREATED:20221206T175451Z
LAST-MODIFIED:20221206T175451Z
UID:518-1672945200-1672948800@www.citypointyc.org
SUMMARY:Membership Meeting
DESCRIPTION:
URL:https://www.citypointyc.org/event/membership-meeting-50/
LOCATION:CT
END:VEVENT
BEGIN:VEVENT
DTSTART;TZID=America/New_York:20221217T170000
DTEND;TZID=America/New_York:20221217T235900
DTSTAMP:20260420T013409
CREATED:20221206T174747Z
LAST-MODIFIED:20221206T190535Z
UID:513-1671296400-1671321540@www.citypointyc.org
SUMMARY:Club Christmas Party
DESCRIPTION:City Point Yacht Club \nChristmas Party\nSaturday Dec. 17th \n5pm\nJoin Us for Some Holiday Cheer\nFood will be served at 6pm
URL:https://www.citypointyc.org/event/club-christmas-party-2/
LOCATION:CT
END:VEVENT
BEGIN:VEVENT
DTSTART;TZID=UTC:20221215T190000
DTEND;TZID=UTC:20221215T200000
DTSTAMP:20260420T013409
CREATED:20210105T222514Z
LAST-MODIFIED:20210105T222514Z
UID:179-1671130800-1671134400@www.citypointyc.org
SUMMARY:Membership Meeting
DESCRIPTION:
URL:https://www.citypointyc.org/event/membership-meeting-49/
LOCATION:CT
END:VEVENT
BEGIN:VEVENT
DTSTART;TZID=America/New_York:20221211T120000
DTEND;TZID=America/New_York:20221211T140000
DTSTAMP:20260420T013409
CREATED:20221206T174747Z
LAST-MODIFIED:20221206T174747Z
UID:512-1670760000-1670767200@www.citypointyc.org
SUMMARY:Kid's Christmas Party
DESCRIPTION:
URL:https://www.citypointyc.org/event/kids-christmas-party-2/
LOCATION:CT
END:VEVENT
END:VCALENDAR