BEGIN:VCALENDAR
VERSION:2.0
PRODID:-//City Point Yacht Club - ECPv6.15.20//NONSGML v1.0//EN
CALSCALE:GREGORIAN
METHOD:PUBLISH
X-WR-CALNAME:City Point Yacht Club
X-ORIGINAL-URL:https://www.citypointyc.org
X-WR-CALDESC:Events for City Point Yacht Club
REFRESH-INTERVAL;VALUE=DURATION:PT1H
X-Robots-Tag:noindex
X-PUBLISHED-TTL:PT1H
BEGIN:VTIMEZONE
TZID:UTC
BEGIN:STANDARD
TZOFFSETFROM:+0000
TZOFFSETTO:+0000
TZNAME:UTC
DTSTART:20200101T000000
END:STANDARD
END:VTIMEZONE
BEGIN:VTIMEZONE
TZID:America/New_York
BEGIN:DAYLIGHT
TZOFFSETFROM:-0500
TZOFFSETTO:-0400
TZNAME:EDT
DTSTART:20210314T070000
END:DAYLIGHT
BEGIN:STANDARD
TZOFFSETFROM:-0400
TZOFFSETTO:-0500
TZNAME:EST
DTSTART:20211107T060000
END:STANDARD
BEGIN:DAYLIGHT
TZOFFSETFROM:-0500
TZOFFSETTO:-0400
TZNAME:EDT
DTSTART:20220313T070000
END:DAYLIGHT
BEGIN:STANDARD
TZOFFSETFROM:-0400
TZOFFSETTO:-0500
TZNAME:EST
DTSTART:20221106T060000
END:STANDARD
BEGIN:DAYLIGHT
TZOFFSETFROM:-0500
TZOFFSETTO:-0400
TZNAME:EDT
DTSTART:20230312T070000
END:DAYLIGHT
BEGIN:STANDARD
TZOFFSETFROM:-0400
TZOFFSETTO:-0500
TZNAME:EST
DTSTART:20231105T060000
END:STANDARD
END:VTIMEZONE
BEGIN:VEVENT
DTSTART;TZID=UTC:20220804T190000
DTEND;TZID=UTC:20220804T200000
DTSTAMP:20260419T212950
CREATED:20210105T222313Z
LAST-MODIFIED:20210105T222313Z
UID:170-1659639600-1659643200@www.citypointyc.org
SUMMARY:Membership Meeting
DESCRIPTION:
URL:https://www.citypointyc.org/event/membership-meeting-40/
LOCATION:CT
END:VEVENT
BEGIN:VEVENT
DTSTART;TZID=UTC:20220721T190000
DTEND;TZID=UTC:20220721T200000
DTSTAMP:20260419T212950
CREATED:20210105T222114Z
LAST-MODIFIED:20210105T222114Z
UID:169-1658430000-1658433600@www.citypointyc.org
SUMMARY:Membership Meeting
DESCRIPTION:
URL:https://www.citypointyc.org/event/membership-meeting-39/
LOCATION:CT
END:VEVENT
BEGIN:VEVENT
DTSTART;TZID=UTC:20220707T190000
DTEND;TZID=UTC:20220707T200000
DTSTAMP:20260419T212950
CREATED:20210105T222113Z
LAST-MODIFIED:20210105T222113Z
UID:168-1657220400-1657224000@www.citypointyc.org
SUMMARY:Membership Meeting
DESCRIPTION:
URL:https://www.citypointyc.org/event/membership-meeting-38/
LOCATION:CT
END:VEVENT
BEGIN:VEVENT
DTSTART;TZID=America/New_York:20220618T120000
DTEND;TZID=America/New_York:20220618T160000
DTSTAMP:20260419T212950
CREATED:20220223T134827Z
LAST-MODIFIED:20220223T134827Z
UID:441-1655553600-1655568000@www.citypointyc.org
SUMMARY:Life Member Day
DESCRIPTION:
URL:https://www.citypointyc.org/event/life-member-day-2/
LOCATION:CT
END:VEVENT
BEGIN:VEVENT
DTSTART;TZID=UTC:20220616T190000
DTEND;TZID=UTC:20220616T200000
DTSTAMP:20260419T212950
CREATED:20210105T222113Z
LAST-MODIFIED:20210105T222113Z
UID:167-1655406000-1655409600@www.citypointyc.org
SUMMARY:Membership Meeting
DESCRIPTION:
URL:https://www.citypointyc.org/event/membership-meeting-37/
LOCATION:CT
END:VEVENT
BEGIN:VEVENT
DTSTART;TZID=America/New_York:20220604T000100
DTEND;TZID=America/New_York:20220605T120000
DTSTAMP:20260419T212950
CREATED:20220223T134827Z
LAST-MODIFIED:20220510T152237Z
UID:440-1654300860-1654430400@www.citypointyc.org
SUMMARY:Striped Bass\, Fluke\, Sea Bass Tournament
DESCRIPTION:
URL:https://www.citypointyc.org/event/striped-bass-fluke-sea-bass-tournament/
LOCATION:City Point Yacht Club\, 347 Kimberly Ave\, New Haven\, CT\, 06519\, United States
END:VEVENT
BEGIN:VEVENT
DTSTART;TZID=UTC:20220602T190000
DTEND;TZID=UTC:20220602T200000
DTSTAMP:20260419T212950
CREATED:20210105T222113Z
LAST-MODIFIED:20210105T222113Z
UID:166-1654196400-1654200000@www.citypointyc.org
SUMMARY:Membership Meeting
DESCRIPTION:
URL:https://www.citypointyc.org/event/membership-meeting-36/
LOCATION:CT
END:VEVENT
BEGIN:VEVENT
DTSTART;TZID=America/New_York:20220528T120000
DTEND;TZID=America/New_York:20220528T190000
DTSTAMP:20260419T212950
CREATED:20220223T134827Z
LAST-MODIFIED:20220428T131356Z
UID:439-1653739200-1653764400@www.citypointyc.org
SUMMARY:Opening Day
DESCRIPTION:
URL:https://www.citypointyc.org/event/opening-day-2/
LOCATION:City Point Yacht Club\, 347 Kimberly Ave\, New Haven\, CT\, 06519\, United States
END:VEVENT
BEGIN:VEVENT
DTSTART;TZID=UTC:20220519T190000
DTEND;TZID=UTC:20220519T200000
DTSTAMP:20260419T212950
CREATED:20210105T222113Z
LAST-MODIFIED:20210105T222113Z
UID:165-1652986800-1652990400@www.citypointyc.org
SUMMARY:Membership Meeting
DESCRIPTION:
URL:https://www.citypointyc.org/event/membership-meeting-35/
LOCATION:CT
END:VEVENT
BEGIN:VEVENT
DTSTART;TZID=UTC:20220505T190000
DTEND;TZID=UTC:20220505T200000
DTSTAMP:20260419T212950
CREATED:20210105T222027Z
LAST-MODIFIED:20210105T222027Z
UID:164-1651777200-1651780800@www.citypointyc.org
SUMMARY:Membership Meeting
DESCRIPTION:
URL:https://www.citypointyc.org/event/membership-meeting-34/
LOCATION:CT
END:VEVENT
BEGIN:VEVENT
DTSTART;TZID=America/New_York:20220430T060000
DTEND;TZID=America/New_York:20220430T160000
DTSTAMP:20260419T212950
CREATED:20220223T134827Z
LAST-MODIFIED:20220223T134827Z
UID:438-1651298400-1651334400@www.citypointyc.org
SUMMARY:Spring Blackfish Tournament
DESCRIPTION:
URL:https://www.citypointyc.org/event/spring-blackfish-tournament-2/
LOCATION:CT
END:VEVENT
BEGIN:VEVENT
DTSTART;TZID=UTC:20220421T190000
DTEND;TZID=UTC:20220421T200000
DTSTAMP:20260419T212950
CREATED:20210105T222027Z
LAST-MODIFIED:20210105T222027Z
UID:163-1650567600-1650571200@www.citypointyc.org
SUMMARY:Membership Meeting
DESCRIPTION:
URL:https://www.citypointyc.org/event/membership-meeting-33/
LOCATION:CT
END:VEVENT
BEGIN:VEVENT
DTSTART;TZID=America/New_York:20220416T130000
DTEND;TZID=America/New_York:20220416T150000
DTSTAMP:20260419T212950
CREATED:20220412T153835Z
LAST-MODIFIED:20220412T153835Z
UID:452-1650114000-1650121200@www.citypointyc.org
SUMMARY:Easter Eggstravaganza
DESCRIPTION:
URL:https://www.citypointyc.org/event/easter-eggstravaganza/
LOCATION:City Point Yacht Club\, 347 Kimberly Ave\, New Haven\, CT\, 06519\, United States
END:VEVENT
BEGIN:VEVENT
DTSTART;TZID=America/New_York:20220415T170000
DTEND;TZID=America/New_York:20220415T210000
DTSTAMP:20260419T212950
CREATED:20220404T120206Z
LAST-MODIFIED:20220404T120206Z
UID:446-1650042000-1650056400@www.citypointyc.org
SUMMARY:Good Friday Pasta Dinner
DESCRIPTION:Good Friday Pasta Dinner
URL:https://www.citypointyc.org/event/good-friday-pasta-dinner/
LOCATION:City Point Yacht Club\, 347 Kimberly Ave\, New Haven\, CT\, 06519\, United States
END:VEVENT
BEGIN:VEVENT
DTSTART;TZID=UTC:20220407T190000
DTEND;TZID=UTC:20220407T200000
DTSTAMP:20260419T212950
CREATED:20210105T222027Z
LAST-MODIFIED:20210105T222027Z
UID:162-1649358000-1649361600@www.citypointyc.org
SUMMARY:Membership Meeting
DESCRIPTION:
URL:https://www.citypointyc.org/event/membership-meeting-32/
LOCATION:CT
END:VEVENT
BEGIN:VEVENT
DTSTART;TZID=UTC:20220317T190000
DTEND;TZID=UTC:20220317T200000
DTSTAMP:20260419T212950
CREATED:20210105T222027Z
LAST-MODIFIED:20210105T222027Z
UID:161-1647543600-1647547200@www.citypointyc.org
SUMMARY:Membership Meeting
DESCRIPTION:
URL:https://www.citypointyc.org/event/membership-meeting-31/
LOCATION:CT
END:VEVENT
BEGIN:VEVENT
DTSTART;TZID=America/New_York:20220313T160000
DTEND;TZID=America/New_York:20220313T235900
DTSTAMP:20260419T212950
CREATED:20220223T134827Z
LAST-MODIFIED:20220303T212811Z
UID:437-1647187200-1647215940@www.citypointyc.org
SUMMARY:St. Paddy's Diner
DESCRIPTION:St Paddys Day Dinner 2022
URL:https://www.citypointyc.org/event/st-pattys-diner/
LOCATION:City Point Yacht Club\, 347 Kimberly Ave\, New Haven\, CT\, 06519\, United States
END:VEVENT
BEGIN:VEVENT
DTSTART;TZID=UTC:20220303T190000
DTEND;TZID=UTC:20220303T200000
DTSTAMP:20260419T212950
CREATED:20210105T222027Z
LAST-MODIFIED:20220303T213207Z
UID:160-1646334000-1646337600@www.citypointyc.org
SUMMARY:Membership Meeting
DESCRIPTION:
URL:https://www.citypointyc.org/event/membership-meeting-30/
LOCATION:City Point Yacht Club\, 347 Kimberly Ave\, New Haven\, CT\, 06519\, United States
END:VEVENT
BEGIN:VEVENT
DTSTART;TZID=UTC:20220217T190000
DTEND;TZID=UTC:20220217T200000
DTSTAMP:20260419T212950
CREATED:20210105T221827Z
LAST-MODIFIED:20210105T221827Z
UID:159-1645124400-1645128000@www.citypointyc.org
SUMMARY:Membership Meeting
DESCRIPTION:
URL:https://www.citypointyc.org/event/membership-meeting-29/
LOCATION:CT
END:VEVENT
BEGIN:VEVENT
DTSTART;TZID=UTC:20220203T190000
DTEND;TZID=UTC:20220203T200000
DTSTAMP:20260419T212950
CREATED:20210105T221827Z
LAST-MODIFIED:20210105T221827Z
UID:158-1643914800-1643918400@www.citypointyc.org
SUMMARY:Membership Meeting
DESCRIPTION:
URL:https://www.citypointyc.org/event/membership-meeting-28/
LOCATION:CT
END:VEVENT
BEGIN:VEVENT
DTSTART;TZID=UTC:20220120T190000
DTEND;TZID=UTC:20220120T200000
DTSTAMP:20260419T212950
CREATED:20210105T221827Z
LAST-MODIFIED:20210105T221827Z
UID:157-1642705200-1642708800@www.citypointyc.org
SUMMARY:Membership Meeting
DESCRIPTION:
URL:https://www.citypointyc.org/event/membership-meeting-27/
LOCATION:CT
END:VEVENT
BEGIN:VEVENT
DTSTART;TZID=UTC:20220106T190000
DTEND;TZID=UTC:20220106T200000
DTSTAMP:20260419T212950
CREATED:20210105T221826Z
LAST-MODIFIED:20210105T221826Z
UID:156-1641495600-1641499200@www.citypointyc.org
SUMMARY:Membership Meeting
DESCRIPTION:
URL:https://www.citypointyc.org/event/membership-meeting-26/
LOCATION:CT
END:VEVENT
BEGIN:VEVENT
DTSTART;TZID=UTC:20211216T190000
DTEND;TZID=UTC:20211216T200000
DTSTAMP:20260419T212950
CREATED:20210105T221826Z
LAST-MODIFIED:20210105T221826Z
UID:155-1639681200-1639684800@www.citypointyc.org
SUMMARY:Membership Meeting
DESCRIPTION:
URL:https://www.citypointyc.org/event/membership-meeting-25/
LOCATION:CT
END:VEVENT
BEGIN:VEVENT
DTSTART;TZID=UTC:20211211T170000
DTEND;TZID=UTC:20211211T235900
DTSTAMP:20260419T212950
CREATED:20210403T001434Z
LAST-MODIFIED:20210403T001434Z
UID:324-1639242000-1639267140@www.citypointyc.org
SUMMARY:Club Christmas Party
DESCRIPTION:
URL:https://www.citypointyc.org/event/club-christmas-party/
LOCATION:CT
END:VEVENT
BEGIN:VEVENT
DTSTART;TZID=UTC:20211205T120000
DTEND;TZID=UTC:20211205T140000
DTSTAMP:20260419T212950
CREATED:20210403T001434Z
LAST-MODIFIED:20210403T001434Z
UID:323-1638705600-1638712800@www.citypointyc.org
SUMMARY:Kid's Christmas Party
DESCRIPTION:
URL:https://www.citypointyc.org/event/kids-christmas-party/
LOCATION:CT
END:VEVENT
BEGIN:VEVENT
DTSTART;TZID=UTC:20211202T190000
DTEND;TZID=UTC:20211202T200000
DTSTAMP:20260419T212950
CREATED:20210105T221645Z
LAST-MODIFIED:20210105T221645Z
UID:154-1638471600-1638475200@www.citypointyc.org
SUMMARY:Membership Meeting
DESCRIPTION:
URL:https://www.citypointyc.org/event/membership-meeting-24/
LOCATION:CT
END:VEVENT
BEGIN:VEVENT
DTSTART;TZID=UTC:20211120T170000
DTEND;TZID=UTC:20211120T235900
DTSTAMP:20260419T212950
CREATED:20210403T001434Z
LAST-MODIFIED:20210403T001434Z
UID:322-1637427600-1637452740@www.citypointyc.org
SUMMARY:Thanksgiving Dinner
DESCRIPTION:
URL:https://www.citypointyc.org/event/thanksgiving-dinner/
LOCATION:CT
END:VEVENT
BEGIN:VEVENT
DTSTART;TZID=UTC:20211118T190000
DTEND;TZID=UTC:20211118T200000
DTSTAMP:20260419T212950
CREATED:20210105T221645Z
LAST-MODIFIED:20210105T221645Z
UID:153-1637262000-1637265600@www.citypointyc.org
SUMMARY:Membership Meeting
DESCRIPTION:
URL:https://www.citypointyc.org/event/membership-meeting-23/
LOCATION:CT
END:VEVENT
BEGIN:VEVENT
DTSTART;TZID=UTC:20211104T190000
DTEND;TZID=UTC:20211104T200000
DTSTAMP:20260419T212950
CREATED:20210105T221645Z
LAST-MODIFIED:20210105T221645Z
UID:152-1636052400-1636056000@www.citypointyc.org
SUMMARY:Membership Meeting
DESCRIPTION:
URL:https://www.citypointyc.org/event/membership-meeting-22/
LOCATION:CT
END:VEVENT
BEGIN:VEVENT
DTSTART;TZID=UTC:20211030T190000
DTEND;TZID=UTC:20211031T000000
DTSTAMP:20260419T212950
CREATED:20210403T001431Z
LAST-MODIFIED:20211026T003240Z
UID:321-1635620400-1635638400@www.citypointyc.org
SUMMARY:Halloween
DESCRIPTION:Halloween 2021 Flyer
URL:https://www.citypointyc.org/event/halloween/
LOCATION:City Point Yacht Club\, 347 Kimberly Ave\, New Haven\, CT\, 06519\, United States
END:VEVENT
END:VCALENDAR