BEGIN:VCALENDAR
VERSION:2.0
PRODID:-//City Point Yacht Club - ECPv6.15.20//NONSGML v1.0//EN
CALSCALE:GREGORIAN
METHOD:PUBLISH
X-WR-CALNAME:City Point Yacht Club
X-ORIGINAL-URL:https://www.citypointyc.org
X-WR-CALDESC:Events for City Point Yacht Club
REFRESH-INTERVAL;VALUE=DURATION:PT1H
X-Robots-Tag:noindex
X-PUBLISHED-TTL:PT1H
BEGIN:VTIMEZONE
TZID:America/New_York
BEGIN:DAYLIGHT
TZOFFSETFROM:-0500
TZOFFSETTO:-0400
TZNAME:EDT
DTSTART:20230312T070000
END:DAYLIGHT
BEGIN:STANDARD
TZOFFSETFROM:-0400
TZOFFSETTO:-0500
TZNAME:EST
DTSTART:20231105T060000
END:STANDARD
BEGIN:DAYLIGHT
TZOFFSETFROM:-0500
TZOFFSETTO:-0400
TZNAME:EDT
DTSTART:20240310T070000
END:DAYLIGHT
BEGIN:STANDARD
TZOFFSETFROM:-0400
TZOFFSETTO:-0500
TZNAME:EST
DTSTART:20241103T060000
END:STANDARD
BEGIN:DAYLIGHT
TZOFFSETFROM:-0500
TZOFFSETTO:-0400
TZNAME:EDT
DTSTART:20250309T070000
END:DAYLIGHT
BEGIN:STANDARD
TZOFFSETFROM:-0400
TZOFFSETTO:-0500
TZNAME:EST
DTSTART:20251102T060000
END:STANDARD
BEGIN:DAYLIGHT
TZOFFSETFROM:-0500
TZOFFSETTO:-0400
TZNAME:EDT
DTSTART:20260308T070000
END:DAYLIGHT
BEGIN:STANDARD
TZOFFSETFROM:-0400
TZOFFSETTO:-0500
TZNAME:EST
DTSTART:20261101T060000
END:STANDARD
END:VTIMEZONE
BEGIN:VEVENT
DTSTART;TZID=America/New_York:20250206T190000
DTEND;TZID=America/New_York:20250206T200000
DTSTAMP:20260419T150442
CREATED:20250123T142205Z
LAST-MODIFIED:20250123T142205Z
UID:808-1738868400-1738872000@www.citypointyc.org
SUMMARY:Membership Meeting
DESCRIPTION:
URL:https://www.citypointyc.org/event/membership-meeting-99/
LOCATION:CT
END:VEVENT
BEGIN:VEVENT
DTSTART;TZID=America/New_York:20250116T190000
DTEND;TZID=America/New_York:20250116T200000
DTSTAMP:20260419T150442
CREATED:20240227T154120Z
LAST-MODIFIED:20240229T125522Z
UID:674-1737054000-1737057600@www.citypointyc.org
SUMMARY:Membership Meeting
DESCRIPTION:
URL:https://www.citypointyc.org/event/membership-meeting-98/
LOCATION:CT
CATEGORIES:Membership
END:VEVENT
BEGIN:VEVENT
DTSTART;TZID=America/New_York:20250102T190000
DTEND;TZID=America/New_York:20250102T200000
DTSTAMP:20260419T150442
CREATED:20240227T154120Z
LAST-MODIFIED:20240229T125522Z
UID:673-1735844400-1735848000@www.citypointyc.org
SUMMARY:Membership Meeting
DESCRIPTION:
URL:https://www.citypointyc.org/event/membership-meeting-97/
LOCATION:CT
CATEGORIES:Membership
END:VEVENT
BEGIN:VEVENT
DTSTART;TZID=America/New_York:20241219T190000
DTEND;TZID=America/New_York:20241219T200000
DTSTAMP:20260419T150442
CREATED:20240227T154120Z
LAST-MODIFIED:20240229T125522Z
UID:672-1734634800-1734638400@www.citypointyc.org
SUMMARY:Membership Meeting
DESCRIPTION:
URL:https://www.citypointyc.org/event/membership-meeting-96/
LOCATION:CT
CATEGORIES:Membership
END:VEVENT
BEGIN:VEVENT
DTSTART;TZID=America/New_York:20241207T170000
DTEND;TZID=America/New_York:20241207T200000
DTSTAMP:20260419T150442
CREATED:20240227T153732Z
LAST-MODIFIED:20240227T153732Z
UID:651-1733590800-1733601600@www.citypointyc.org
SUMMARY:Club Christmas Party
DESCRIPTION:
URL:https://www.citypointyc.org/event/club-christmas-party-4/
LOCATION:CT
END:VEVENT
BEGIN:VEVENT
DTSTART;TZID=America/New_York:20241205T190000
DTEND;TZID=America/New_York:20241205T200000
DTSTAMP:20260419T150442
CREATED:20240227T154119Z
LAST-MODIFIED:20240229T125522Z
UID:671-1733425200-1733428800@www.citypointyc.org
SUMMARY:Membership Meeting
DESCRIPTION:
URL:https://www.citypointyc.org/event/membership-meeting-95/
LOCATION:CT
CATEGORIES:Membership
END:VEVENT
BEGIN:VEVENT
DTSTART;TZID=America/New_York:20241201T120000
DTEND;TZID=America/New_York:20241201T140000
DTSTAMP:20260419T150442
CREATED:20240227T153647Z
LAST-MODIFIED:20240227T153647Z
UID:650-1733054400-1733061600@www.citypointyc.org
SUMMARY:Children's Christmas Party
DESCRIPTION:
URL:https://www.citypointyc.org/event/childrens-christmas-party-2/
LOCATION:CT
END:VEVENT
BEGIN:VEVENT
DTSTART;TZID=America/New_York:20241121T190000
DTEND;TZID=America/New_York:20241121T200000
DTSTAMP:20260419T150442
CREATED:20240227T154004Z
LAST-MODIFIED:20240229T125522Z
UID:670-1732215600-1732219200@www.citypointyc.org
SUMMARY:Membership Meeting
DESCRIPTION:
URL:https://www.citypointyc.org/event/membership-meeting-94/
LOCATION:CT
CATEGORIES:Membership
END:VEVENT
BEGIN:VEVENT
DTSTART;TZID=America/New_York:20241116T163000
DTEND;TZID=America/New_York:20241116T200000
DTSTAMP:20260419T150442
CREATED:20240227T153647Z
LAST-MODIFIED:20241104T135137Z
UID:649-1731774600-1731787200@www.citypointyc.org
SUMMARY:Turkey Dinner
DESCRIPTION:CPYC Turkey Dinner 2024
URL:https://www.citypointyc.org/event/turkey-dinner-2/
LOCATION:City Point Yacht Club\, 347 Kimberly Ave\, New Haven\, CT\, 06519\, United States
END:VEVENT
BEGIN:VEVENT
DTSTART;TZID=America/New_York:20241107T190000
DTEND;TZID=America/New_York:20241107T200000
DTSTAMP:20260419T150442
CREATED:20240227T154004Z
LAST-MODIFIED:20240229T125522Z
UID:669-1731006000-1731009600@www.citypointyc.org
SUMMARY:Membership Meeting
DESCRIPTION:
URL:https://www.citypointyc.org/event/membership-meeting-93/
LOCATION:CT
CATEGORIES:Membership
END:VEVENT
BEGIN:VEVENT
DTSTART;TZID=America/New_York:20241103T120000
DTEND;TZID=America/New_York:20241103T160000
DTSTAMP:20260419T150442
CREATED:20240227T153646Z
LAST-MODIFIED:20240227T154720Z
UID:648-1730635200-1730649600@www.citypointyc.org
SUMMARY:All Year Fish Fry  
DESCRIPTION:
URL:https://www.citypointyc.org/event/all-year-fish-fry-2/
LOCATION:CT
CATEGORIES:Fishing
END:VEVENT
BEGIN:VEVENT
DTSTART;TZID=America/New_York:20241027T140000
DTEND;TZID=America/New_York:20241027T160000
DTSTAMP:20260419T150442
CREATED:20240918T133537Z
LAST-MODIFIED:20240918T133537Z
UID:784-1730037600-1730044800@www.citypointyc.org
SUMMARY:Trunk or Treat
DESCRIPTION:
URL:https://www.citypointyc.org/event/trunk-or-treat/
LOCATION:City Point Yacht Club\, 347 Kimberly Ave\, New Haven\, CT\, 06519\, United States
END:VEVENT
BEGIN:VEVENT
DTSTART;TZID=America/New_York:20241026T190000
DTEND;TZID=America/New_York:20241026T230000
DTSTAMP:20260419T150442
CREATED:20240227T153646Z
LAST-MODIFIED:20241011T184309Z
UID:647-1729969200-1729983600@www.citypointyc.org
SUMMARY:Halloween Party
DESCRIPTION:CPYC Halloween Party 2024
URL:https://www.citypointyc.org/event/halloween-party-2/
LOCATION:City Point Yacht Club\, 347 Kimberly Ave\, New Haven\, CT\, 06519\, United States
END:VEVENT
BEGIN:VEVENT
DTSTART;TZID=America/New_York:20241017T190000
DTEND;TZID=America/New_York:20241017T190000
DTSTAMP:20260419T150442
CREATED:20240227T154004Z
LAST-MODIFIED:20240229T125523Z
UID:668-1729191600-1729191600@www.citypointyc.org
SUMMARY:Membership Meeting
DESCRIPTION:
URL:https://www.citypointyc.org/event/membership-meeting-92/
LOCATION:CT
CATEGORIES:Membership
END:VEVENT
BEGIN:VEVENT
DTSTART;TZID=America/New_York:20241013T060000
DTEND;TZID=America/New_York:20241013T160000
DTSTAMP:20260419T150442
CREATED:20240227T153646Z
LAST-MODIFIED:20241011T123352Z
UID:646-1728799200-1728835200@www.citypointyc.org
SUMMARY:Fall Blackfish Tournament
DESCRIPTION:Tournament Date Changed to Sunday October 13th due to weather.
URL:https://www.citypointyc.org/event/fall-blackfish-tournament-2/
LOCATION:City Point Yacht Club\, 347 Kimberly Ave\, New Haven\, CT\, 06519\, United States
CATEGORIES:Fishing
END:VEVENT
BEGIN:VEVENT
DTSTART;TZID=America/New_York:20241005T160000
DTEND;TZID=America/New_York:20241005T200000
DTSTAMP:20260419T150442
CREATED:20240227T153628Z
LAST-MODIFIED:20240227T153628Z
UID:645-1728144000-1728158400@www.citypointyc.org
SUMMARY:Oktoberfest
DESCRIPTION:
URL:https://www.citypointyc.org/event/oktoberfest-2/
LOCATION:CT
END:VEVENT
BEGIN:VEVENT
DTSTART;TZID=America/New_York:20241003T190000
DTEND;TZID=America/New_York:20241003T200000
DTSTAMP:20260419T150442
CREATED:20240227T154004Z
LAST-MODIFIED:20240229T125523Z
UID:667-1727982000-1727985600@www.citypointyc.org
SUMMARY:Membership Meeting
DESCRIPTION:
URL:https://www.citypointyc.org/event/membership-meeting-91/
LOCATION:CT
CATEGORIES:Membership
END:VEVENT
BEGIN:VEVENT
DTSTART;TZID=America/New_York:20240921T060000
DTEND;TZID=America/New_York:20240921T160000
DTSTAMP:20260419T150442
CREATED:20240227T153628Z
LAST-MODIFIED:20240829T171114Z
UID:643-1726898400-1726934400@www.citypointyc.org
SUMMARY:CPYC One Day Bluefish Tournament
DESCRIPTION:
URL:https://www.citypointyc.org/event/cpyc-one-day-bluefish-tournament-2/
LOCATION:City Point Yacht Club\, 347 Kimberly Ave\, New Haven\, CT\, 06519\, United States
CATEGORIES:Fishing
END:VEVENT
BEGIN:VEVENT
DTSTART;TZID=America/New_York:20240921T060000
DTEND;TZID=America/New_York:20240921T160000
DTSTAMP:20260419T150442
CREATED:20240227T153628Z
LAST-MODIFIED:20240911T142536Z
UID:644-1726898400-1726934400@www.citypointyc.org
SUMMARY:Women's Powder Puff Tournament
DESCRIPTION:
URL:https://www.citypointyc.org/event/womens-powder-puff-tournament-2/
LOCATION:CT
CATEGORIES:Fishing
END:VEVENT
BEGIN:VEVENT
DTSTART;TZID=America/New_York:20240919T190000
DTEND;TZID=America/New_York:20240919T200000
DTSTAMP:20260419T150442
CREATED:20240227T154004Z
LAST-MODIFIED:20240229T125523Z
UID:666-1726772400-1726776000@www.citypointyc.org
SUMMARY:Membership Meeting
DESCRIPTION:
URL:https://www.citypointyc.org/event/membership-meeting-90/
LOCATION:CT
CATEGORIES:Membership
END:VEVENT
BEGIN:VEVENT
DTSTART;TZID=America/New_York:20240907T120000
DTEND;TZID=America/New_York:20240907T190000
DTSTAMP:20260419T150442
CREATED:20240227T153628Z
LAST-MODIFIED:20240828T173405Z
UID:642-1725710400-1725735600@www.citypointyc.org
SUMMARY:Family Day Picnic
DESCRIPTION:CPYC Family PICNIC 2024
URL:https://www.citypointyc.org/event/family-day-picnic-2/
LOCATION:CT
END:VEVENT
BEGIN:VEVENT
DTSTART;TZID=America/New_York:20240905T190000
DTEND;TZID=America/New_York:20240905T200000
DTSTAMP:20260419T150442
CREATED:20240227T153803Z
LAST-MODIFIED:20240229T125523Z
UID:665-1725562800-1725566400@www.citypointyc.org
SUMMARY:Membership Meeting
DESCRIPTION:
URL:https://www.citypointyc.org/event/membership-meeting-89/
LOCATION:CT
CATEGORIES:Membership
END:VEVENT
BEGIN:VEVENT
DTSTART;TZID=America/New_York:20240824T060000
DTEND;TZID=America/New_York:20240824T160000
DTSTAMP:20260419T150442
CREATED:20240227T154120Z
LAST-MODIFIED:20240227T154901Z
UID:675-1724479200-1724515200@www.citypointyc.org
SUMMARY:Tri-Club Tournament
DESCRIPTION:
URL:https://www.citypointyc.org/event/tri-club-tournament/
LOCATION:CT
CATEGORIES:Fishing
END:VEVENT
BEGIN:VEVENT
DTSTART;TZID=America/New_York:20240815T190000
DTEND;TZID=America/New_York:20240815T200000
DTSTAMP:20260419T150442
CREATED:20240227T153803Z
LAST-MODIFIED:20240229T125523Z
UID:664-1723748400-1723752000@www.citypointyc.org
SUMMARY:Membership Meeting
DESCRIPTION:
URL:https://www.citypointyc.org/event/membership-meeting-88/
LOCATION:CT
CATEGORIES:Membership
END:VEVENT
BEGIN:VEVENT
DTSTART;TZID=America/New_York:20240803T120000
DTEND;TZID=America/New_York:20240803T160000
DTSTAMP:20260419T150442
CREATED:20240227T153612Z
LAST-MODIFIED:20240227T153612Z
UID:640-1722686400-1722700800@www.citypointyc.org
SUMMARY:Car Show
DESCRIPTION:
URL:https://www.citypointyc.org/event/car-show-2/
LOCATION:CT
END:VEVENT
BEGIN:VEVENT
DTSTART;TZID=America/New_York:20240801T190000
DTEND;TZID=America/New_York:20240801T200000
DTSTAMP:20260419T150442
CREATED:20240227T153803Z
LAST-MODIFIED:20240229T125523Z
UID:663-1722538800-1722542400@www.citypointyc.org
SUMMARY:Membership Meeting
DESCRIPTION:
URL:https://www.citypointyc.org/event/membership-meeting-87/
LOCATION:CT
CATEGORIES:Membership
END:VEVENT
BEGIN:VEVENT
DTSTART;TZID=America/New_York:20240727T170000
DTEND;TZID=America/New_York:20240727T220000
DTSTAMP:20260419T150442
CREATED:20240227T153628Z
LAST-MODIFIED:20240227T153628Z
UID:641-1722099600-1722117600@www.citypointyc.org
SUMMARY:Luau TIKI
DESCRIPTION:
URL:https://www.citypointyc.org/event/luau-tiki/
LOCATION:CT
END:VEVENT
BEGIN:VEVENT
DTSTART;TZID=America/New_York:20240720T080000
DTEND;TZID=America/New_York:20240720T140000
DTSTAMP:20260419T150442
CREATED:20240709T114350Z
LAST-MODIFIED:20240709T114350Z
UID:762-1721462400-1721484000@www.citypointyc.org
SUMMARY:Kid's Fishing Tournament
DESCRIPTION:2024 kids fishing tournament
URL:https://www.citypointyc.org/event/kids-fishing-tournament-4/
LOCATION:City Point Yacht Club\, 347 Kimberly Ave\, New Haven\, CT\, 06519\, United States
CATEGORIES:Fishing
END:VEVENT
BEGIN:VEVENT
DTSTART;TZID=America/New_York:20240718T190000
DTEND;TZID=America/New_York:20240718T200000
DTSTAMP:20260419T150442
CREATED:20240227T153803Z
LAST-MODIFIED:20240229T125523Z
UID:662-1721329200-1721332800@www.citypointyc.org
SUMMARY:Membership Meeting
DESCRIPTION:
URL:https://www.citypointyc.org/event/membership-meeting-86/
LOCATION:CT
CATEGORIES:Membership
END:VEVENT
BEGIN:VEVENT
DTSTART;TZID=America/New_York:20240713T160000
DTEND;TZID=America/New_York:20240713T220000
DTSTAMP:20260419T150442
CREATED:20240227T153612Z
LAST-MODIFIED:20240227T153612Z
UID:638-1720886400-1720908000@www.citypointyc.org
SUMMARY:Clam Bake
DESCRIPTION:
URL:https://www.citypointyc.org/event/clam-bake-3/
LOCATION:CT
END:VEVENT
END:VCALENDAR