BEGIN:VCALENDAR
VERSION:2.0
PRODID:-//City Point Yacht Club - ECPv6.15.20//NONSGML v1.0//EN
CALSCALE:GREGORIAN
METHOD:PUBLISH
X-WR-CALNAME:City Point Yacht Club
X-ORIGINAL-URL:https://www.citypointyc.org
X-WR-CALDESC:Events for City Point Yacht Club
REFRESH-INTERVAL;VALUE=DURATION:PT1H
X-Robots-Tag:noindex
X-PUBLISHED-TTL:PT1H
BEGIN:VTIMEZONE
TZID:UTC
BEGIN:STANDARD
TZOFFSETFROM:+0000
TZOFFSETTO:+0000
TZNAME:UTC
DTSTART:20200101T000000
END:STANDARD
END:VTIMEZONE
BEGIN:VTIMEZONE
TZID:America/Halifax
BEGIN:DAYLIGHT
TZOFFSETFROM:-0400
TZOFFSETTO:-0300
TZNAME:ADT
DTSTART:20200308T060000
END:DAYLIGHT
BEGIN:STANDARD
TZOFFSETFROM:-0300
TZOFFSETTO:-0400
TZNAME:AST
DTSTART:20201101T050000
END:STANDARD
BEGIN:DAYLIGHT
TZOFFSETFROM:-0400
TZOFFSETTO:-0300
TZNAME:ADT
DTSTART:20210314T060000
END:DAYLIGHT
BEGIN:STANDARD
TZOFFSETFROM:-0300
TZOFFSETTO:-0400
TZNAME:AST
DTSTART:20211107T050000
END:STANDARD
BEGIN:DAYLIGHT
TZOFFSETFROM:-0400
TZOFFSETTO:-0300
TZNAME:ADT
DTSTART:20220313T060000
END:DAYLIGHT
BEGIN:STANDARD
TZOFFSETFROM:-0300
TZOFFSETTO:-0400
TZNAME:AST
DTSTART:20221106T050000
END:STANDARD
END:VTIMEZONE
BEGIN:VEVENT
DTSTART;TZID=UTC:20211021T190000
DTEND;TZID=UTC:20211021T200000
DTSTAMP:20260419T234006
CREATED:20210105T221645Z
LAST-MODIFIED:20210105T221645Z
UID:151-1634842800-1634846400@www.citypointyc.org
SUMMARY:Membership Meeting
DESCRIPTION:
URL:https://www.citypointyc.org/event/membership-meeting-21/
LOCATION:CT
END:VEVENT
BEGIN:VEVENT
DTSTART;TZID=UTC:20211009T170000
DTEND;TZID=UTC:20211009T235900
DTSTAMP:20260419T234006
CREATED:20210403T001431Z
LAST-MODIFIED:20210403T001431Z
UID:320-1633798800-1633823940@www.citypointyc.org
SUMMARY:Octoberfest
DESCRIPTION:
URL:https://www.citypointyc.org/event/octoberfest/
LOCATION:CT
END:VEVENT
BEGIN:VEVENT
DTSTART;TZID=UTC:20211007T190000
DTEND;TZID=UTC:20211007T200000
DTSTAMP:20260419T234006
CREATED:20210105T221645Z
LAST-MODIFIED:20210105T221645Z
UID:150-1633633200-1633636800@www.citypointyc.org
SUMMARY:Membership Meeting
DESCRIPTION:
URL:https://www.citypointyc.org/event/membership-meeting-20/
LOCATION:CT
END:VEVENT
BEGIN:VEVENT
DTSTART;TZID=UTC:20211002T060000
DTEND;TZID=UTC:20211002T160000
DTSTAMP:20260419T234006
CREATED:20210211T022622Z
LAST-MODIFIED:20210211T022622Z
UID:278-1633154400-1633190400@www.citypointyc.org
SUMMARY:One DayBluefish Tournament (Rain Date)
DESCRIPTION:
URL:https://www.citypointyc.org/event/one-daybluefish-tournament-rain-date/
LOCATION:CT
END:VEVENT
BEGIN:VEVENT
DTSTART;TZID=UTC:20210926T060000
DTEND;TZID=UTC:20210926T160000
DTSTAMP:20260419T234006
CREATED:20210211T022622Z
LAST-MODIFIED:20210910T232214Z
UID:279-1632636000-1632672000@www.citypointyc.org
SUMMARY:Womens Powder PuffTournament
DESCRIPTION:
URL:https://www.citypointyc.org/event/womens-powder-pufftournament/
LOCATION:CT
END:VEVENT
BEGIN:VEVENT
DTSTART;TZID=UTC:20210925T060000
DTEND;TZID=UTC:20210925T160000
DTSTAMP:20260419T234006
CREATED:20210211T022622Z
LAST-MODIFIED:20210910T232110Z
UID:277-1632549600-1632585600@www.citypointyc.org
SUMMARY:One DayBluefish Tournament
DESCRIPTION:
URL:https://www.citypointyc.org/event/one-daybluefish-tournament/
LOCATION:CT
END:VEVENT
BEGIN:VEVENT
DTSTART;TZID=UTC:20210916T190000
DTEND;TZID=UTC:20210916T200000
DTSTAMP:20260419T234006
CREATED:20210105T221629Z
LAST-MODIFIED:20210105T221629Z
UID:149-1631818800-1631822400@www.citypointyc.org
SUMMARY:Membership Meeting
DESCRIPTION:
URL:https://www.citypointyc.org/event/membership-meeting-19/
LOCATION:CT
END:VEVENT
BEGIN:VEVENT
DTSTART;TZID=America/Halifax:20210911T120000
DTEND;TZID=America/Halifax:20210911T190000
DTSTAMP:20260419T234006
CREATED:20210809T165917Z
LAST-MODIFIED:20210809T170106Z
UID:404-1631361600-1631386800@www.citypointyc.org
SUMMARY:CPYC Family Picnic
DESCRIPTION:
URL:https://www.citypointyc.org/event/cpyc-family-picnic/
LOCATION:City Point Yacht Club\, 347 Kimberly Ave\, New Haven\, CT\, 06519\, United States
END:VEVENT
BEGIN:VEVENT
DTSTART;TZID=America/Halifax:20210911T070000
DTEND;TZID=America/Halifax:20210911T120000
DTSTAMP:20260419T234006
CREATED:20210211T022620Z
LAST-MODIFIED:20210813T223757Z
UID:273-1631343600-1631361600@www.citypointyc.org
SUMMARY:Kids Fishing Tournament
DESCRIPTION:
URL:https://www.citypointyc.org/event/kids-fishing-tournament/
LOCATION:City Point Yacht Club\, 347 Kimberly Ave\, New Haven\, CT\, 06519\, United States
END:VEVENT
BEGIN:VEVENT
DTSTART;TZID=UTC:20210902T190000
DTEND;TZID=UTC:20210902T200000
DTSTAMP:20260419T234006
CREATED:20210105T221629Z
LAST-MODIFIED:20210105T221629Z
UID:148-1630609200-1630612800@www.citypointyc.org
SUMMARY:Membership Meeting
DESCRIPTION:
URL:https://www.citypointyc.org/event/membership-meeting-18/
LOCATION:CT
END:VEVENT
BEGIN:VEVENT
DTSTART;TZID=UTC:20210829T060000
DTEND;TZID=UTC:20210829T160000
DTSTAMP:20260419T234006
CREATED:20210211T022622Z
LAST-MODIFIED:20210211T022622Z
UID:276-1630216800-1630252800@www.citypointyc.org
SUMMARY:New Haven Challenge (Rain Date)
DESCRIPTION:
URL:https://www.citypointyc.org/event/new-haven-challenge-rain-date/
LOCATION:CT
END:VEVENT
BEGIN:VEVENT
DTSTART;TZID=UTC:20210828T050000
DTEND;TZID=UTC:20210828T140000
DTSTAMP:20260419T234006
CREATED:20210211T022622Z
LAST-MODIFIED:20210803T163337Z
UID:275-1630126800-1630159200@www.citypointyc.org
SUMMARY:New Haven Challenge (Hosted by CPYC)
DESCRIPTION:
URL:https://www.citypointyc.org/event/new-haven-challenge-hosted-by-cpyc/
LOCATION:CT
END:VEVENT
BEGIN:VEVENT
DTSTART;TZID=UTC:20210819T190000
DTEND;TZID=UTC:20210819T200000
DTSTAMP:20260419T234006
CREATED:20210105T221629Z
LAST-MODIFIED:20210105T221629Z
UID:147-1629399600-1629403200@www.citypointyc.org
SUMMARY:Membership Meeting
DESCRIPTION:
URL:https://www.citypointyc.org/event/membership-meeting-17/
LOCATION:CT
END:VEVENT
BEGIN:VEVENT
DTSTART;TZID=UTC:20210805T190000
DTEND;TZID=UTC:20210805T200000
DTSTAMP:20260419T234006
CREATED:20210105T221629Z
LAST-MODIFIED:20210105T221629Z
UID:146-1628190000-1628193600@www.citypointyc.org
SUMMARY:Membership Meeting
DESCRIPTION:
URL:https://www.citypointyc.org/event/membership-meeting-16/
LOCATION:CT
END:VEVENT
BEGIN:VEVENT
DTSTART;TZID=UTC:20210715T190000
DTEND;TZID=UTC:20210715T200000
DTSTAMP:20260419T234006
CREATED:20210105T221629Z
LAST-MODIFIED:20210105T221629Z
UID:145-1626375600-1626379200@www.citypointyc.org
SUMMARY:Membership Meeting
DESCRIPTION:
URL:https://www.citypointyc.org/event/membership-meeting-15/
LOCATION:CT
END:VEVENT
BEGIN:VEVENT
DTSTART;TZID=UTC:20210710T163000
DTEND;TZID=UTC:20210710T220000
DTSTAMP:20260419T234006
CREATED:20210403T001431Z
LAST-MODIFIED:20210706T175528Z
UID:319-1625934600-1625954400@www.citypointyc.org
SUMMARY:Clam Bake
DESCRIPTION:
URL:https://www.citypointyc.org/event/clam-bake/
LOCATION:City Point Yacht Club\, 347 Kimberly Ave\, New Haven\, CT\, 06519\, United States
END:VEVENT
BEGIN:VEVENT
DTSTART;TZID=UTC:20210701T190000
DTEND;TZID=UTC:20210701T200000
DTSTAMP:20260419T234006
CREATED:20210105T221627Z
LAST-MODIFIED:20210105T221627Z
UID:144-1625166000-1625169600@www.citypointyc.org
SUMMARY:Membership Meeting
DESCRIPTION:
URL:https://www.citypointyc.org/event/membership-meeting-14/
LOCATION:CT
END:VEVENT
BEGIN:VEVENT
DTSTART;TZID=UTC:20210627T120000
DTEND;TZID=UTC:20210627T160000
DTSTAMP:20260419T234006
CREATED:20210403T001430Z
LAST-MODIFIED:20210403T001430Z
UID:318-1624795200-1624809600@www.citypointyc.org
SUMMARY:Life Member Day
DESCRIPTION:
URL:https://www.citypointyc.org/event/life-member-day/
LOCATION:CT
END:VEVENT
BEGIN:VEVENT
DTSTART;TZID=UTC:20210617T190000
DTEND;TZID=UTC:20210617T200000
DTSTAMP:20260419T234006
CREATED:20210105T221627Z
LAST-MODIFIED:20210105T221627Z
UID:143-1623956400-1623960000@www.citypointyc.org
SUMMARY:Membership Meeting
DESCRIPTION:
URL:https://www.citypointyc.org/event/membership-meeting-13/
LOCATION:CT
END:VEVENT
BEGIN:VEVENT
DTSTART;TZID=UTC:20210605T000100
DTEND;TZID=UTC:20210606T120000
DTSTAMP:20260419T234006
CREATED:20210211T022620Z
LAST-MODIFIED:20210211T022620Z
UID:272-1622851260-1622980800@www.citypointyc.org
SUMMARY:Striped Bass\, Fluke\,Sea Bass Tournament
DESCRIPTION:
URL:https://www.citypointyc.org/event/striped-bass-flukesea-bass-tournament/
LOCATION:CT
END:VEVENT
BEGIN:VEVENT
DTSTART;TZID=UTC:20210603T190000
DTEND;TZID=UTC:20210603T200000
DTSTAMP:20260419T234006
CREATED:20210105T221626Z
LAST-MODIFIED:20210105T221626Z
UID:142-1622746800-1622750400@www.citypointyc.org
SUMMARY:Membership Meeting
DESCRIPTION:
URL:https://www.citypointyc.org/event/membership-meeting-12/
LOCATION:CT
END:VEVENT
BEGIN:VEVENT
DTSTART;TZID=UTC:20210522T120000
DTEND;TZID=UTC:20210522T235900
DTSTAMP:20260419T234006
CREATED:20210403T001430Z
LAST-MODIFIED:20210430T233629Z
UID:317-1621684800-1621727940@www.citypointyc.org
SUMMARY:CPYC - Opening Day Ceremony
DESCRIPTION:
URL:https://www.citypointyc.org/event/opening-day/
LOCATION:CT
END:VEVENT
BEGIN:VEVENT
DTSTART;TZID=UTC:20210520T190000
DTEND;TZID=UTC:20210520T200000
DTSTAMP:20260419T234006
CREATED:20210105T221626Z
LAST-MODIFIED:20210105T221626Z
UID:141-1621537200-1621540800@www.citypointyc.org
SUMMARY:Membership Meeting
DESCRIPTION:
URL:https://www.citypointyc.org/event/membership-meeting-11/
LOCATION:CT
END:VEVENT
BEGIN:VEVENT
DTSTART;TZID=UTC:20210506T190000
DTEND;TZID=UTC:20210506T200000
DTSTAMP:20260419T234006
CREATED:20210105T221626Z
LAST-MODIFIED:20210105T221626Z
UID:140-1620327600-1620331200@www.citypointyc.org
SUMMARY:Membership Meeting
DESCRIPTION:
URL:https://www.citypointyc.org/event/membership-meeting-10/
LOCATION:CT
END:VEVENT
BEGIN:VEVENT
DTSTART;TZID=UTC:20210425T060000
DTEND;TZID=UTC:20210425T160000
DTSTAMP:20260419T234006
CREATED:20210211T022619Z
LAST-MODIFIED:20210211T022619Z
UID:271-1619330400-1619366400@www.citypointyc.org
SUMMARY:Spring Blackfish Tournament (Rain Date)
DESCRIPTION:
URL:https://www.citypointyc.org/event/spring-blackfish-tournament-rain-date/
LOCATION:CT
END:VEVENT
BEGIN:VEVENT
DTSTART;TZID=UTC:20210424T060000
DTEND;TZID=UTC:20210424T160000
DTSTAMP:20260419T234006
CREATED:20210211T022619Z
LAST-MODIFIED:20210211T022619Z
UID:270-1619244000-1619280000@www.citypointyc.org
SUMMARY:Spring Blackfish Tournament
DESCRIPTION:
URL:https://www.citypointyc.org/event/spring-blackfish-tournament/
LOCATION:CT
END:VEVENT
BEGIN:VEVENT
DTSTART;TZID=UTC:20210415T190000
DTEND;TZID=UTC:20210415T200000
DTSTAMP:20260419T234006
CREATED:20210105T215616Z
LAST-MODIFIED:20210105T215616Z
UID:137-1618513200-1618516800@www.citypointyc.org
SUMMARY:Membership Meeting
DESCRIPTION:
URL:https://www.citypointyc.org/event/membership-meeting-9/
LOCATION:CT
END:VEVENT
BEGIN:VEVENT
DTSTART;TZID=UTC:20210401T190000
DTEND;TZID=UTC:20210401T200000
DTSTAMP:20260419T234006
CREATED:20210105T215616Z
LAST-MODIFIED:20210105T215616Z
UID:136-1617303600-1617307200@www.citypointyc.org
SUMMARY:Membership Meeting
DESCRIPTION:
URL:https://www.citypointyc.org/event/membership-meeting-8/
LOCATION:CT
END:VEVENT
BEGIN:VEVENT
DTSTART;TZID=UTC:20210318T190000
DTEND;TZID=UTC:20210318T200000
DTSTAMP:20260419T234006
CREATED:20210105T214738Z
LAST-MODIFIED:20210105T214738Z
UID:127-1616094000-1616097600@www.citypointyc.org
SUMMARY:Membership Meeting
DESCRIPTION:
URL:https://www.citypointyc.org/event/membership-meeting-7/
LOCATION:CT
END:VEVENT
BEGIN:VEVENT
DTSTART;TZID=UTC:20210304T190000
DTEND;TZID=UTC:20210304T200000
DTSTAMP:20260419T234006
CREATED:20210105T214603Z
LAST-MODIFIED:20210105T214603Z
UID:122-1614884400-1614888000@www.citypointyc.org
SUMMARY:Membership Meeting
DESCRIPTION:
URL:https://www.citypointyc.org/event/membership-meeting-5/
LOCATION:CT
END:VEVENT
END:VCALENDAR