BEGIN:VCALENDAR
VERSION:2.0
PRODID:-//City Point Yacht Club - ECPv6.15.20//NONSGML v1.0//EN
CALSCALE:GREGORIAN
METHOD:PUBLISH
X-WR-CALNAME:City Point Yacht Club
X-ORIGINAL-URL:https://www.citypointyc.org
X-WR-CALDESC:Events for City Point Yacht Club
REFRESH-INTERVAL;VALUE=DURATION:PT1H
X-Robots-Tag:noindex
X-PUBLISHED-TTL:PT1H
BEGIN:VTIMEZONE
TZID:America/New_York
BEGIN:DAYLIGHT
TZOFFSETFROM:-0500
TZOFFSETTO:-0400
TZNAME:EDT
DTSTART:20230312T070000
END:DAYLIGHT
BEGIN:STANDARD
TZOFFSETFROM:-0400
TZOFFSETTO:-0500
TZNAME:EST
DTSTART:20231105T060000
END:STANDARD
BEGIN:DAYLIGHT
TZOFFSETFROM:-0500
TZOFFSETTO:-0400
TZNAME:EDT
DTSTART:20240310T070000
END:DAYLIGHT
BEGIN:STANDARD
TZOFFSETFROM:-0400
TZOFFSETTO:-0500
TZNAME:EST
DTSTART:20241103T060000
END:STANDARD
BEGIN:DAYLIGHT
TZOFFSETFROM:-0500
TZOFFSETTO:-0400
TZNAME:EDT
DTSTART:20250309T070000
END:DAYLIGHT
BEGIN:STANDARD
TZOFFSETFROM:-0400
TZOFFSETTO:-0500
TZNAME:EST
DTSTART:20251102T060000
END:STANDARD
END:VTIMEZONE
BEGIN:VEVENT
DTSTART;TZID=America/New_York:20240307T190000
DTEND;TZID=America/New_York:20240307T200000
DTSTAMP:20260423T104118
CREATED:20240227T153733Z
LAST-MODIFIED:20240229T125550Z
UID:654-1709838000-1709841600@www.citypointyc.org
SUMMARY:Membership Meeting
DESCRIPTION:
URL:https://www.citypointyc.org/event/membership-meeting-78/
LOCATION:CT
CATEGORIES:Membership
END:VEVENT
BEGIN:VEVENT
DTSTART;TZID=America/New_York:20240310T160000
DTEND;TZID=America/New_York:20240310T200000
DTSTAMP:20260423T104118
CREATED:20240227T153610Z
LAST-MODIFIED:20240306T141750Z
UID:633-1710086400-1710100800@www.citypointyc.org
SUMMARY:St Paddy's Day Dinner 2024
DESCRIPTION:St Paddy’s Day Dinner 2024
URL:https://www.citypointyc.org/event/st-paddys-dinner-2/
LOCATION:City Point Yacht Club\, 347 Kimberly Ave\, New Haven\, CT\, 06519\, United States
END:VEVENT
BEGIN:VEVENT
DTSTART;TZID=America/New_York:20240321T190000
DTEND;TZID=America/New_York:20240321T200000
DTSTAMP:20260423T104118
CREATED:20240227T153733Z
LAST-MODIFIED:20240229T125523Z
UID:655-1711047600-1711051200@www.citypointyc.org
SUMMARY:Membership Meeting
DESCRIPTION:
URL:https://www.citypointyc.org/event/membership-meeting-79/
LOCATION:CT
CATEGORIES:Membership
END:VEVENT
BEGIN:VEVENT
DTSTART;TZID=America/New_York:20240324T130000
DTEND;TZID=America/New_York:20240324T143000
DTSTAMP:20260423T104118
CREATED:20240306T144722Z
LAST-MODIFIED:20240306T144722Z
UID:736-1711285200-1711290600@www.citypointyc.org
SUMMARY:Easter Eggstravaganza Event
DESCRIPTION:
URL:https://www.citypointyc.org/event/easter-eggstravaganza-event/
LOCATION:City Point Yacht Club\, 347 Kimberly Ave\, New Haven\, CT\, 06519\, United States
END:VEVENT
END:VCALENDAR